BEGIN:VCALENDAR
VERSION:2.0
PRODID:-//ExpressionEngine Easy iCalendar plugin//NONSGML v2.0.1//EN
X-WR-TIMEZONE:America/New_York
X-WR-CALNAME:Upcoming Auctions
BEGIN:VEVENT
UID:126896
DTSTAMP:20240903T010000
DTSTART:20240903T010000
DTEND:20241016T130000
SUMMARY:70 +/- Acres With Farmhouse And Outbuildings Near Singers Gl
 en VA
LOCATION:9631 Turleytown Road\, Singers Glen\, VA 22850\, US
DESCRIPTION:We are offering at online auction the real estate and impro
 vements located at 9631 Turleytown Road\, Singers Glen VA 228
 50. This property is zoned A2 and is 70.15 +/- acres of rol
 ling pasture and woodland in western Rockingham County near
  the village of Singers Glen. It is improved by a 1\,944 sq 
 ft farmhouse\, barn\, and other outbuildings. This farm is lo
 cated only 12 miles from Harrisonburg VA and offers mountain
  views\, abundant wildlife\, and a peaceful setting for your a
 gricultural or recreational pursuits. The online only auct
 ion will close October 16\, 2024 @ 1:00 PM.
URL:https://mountainvalleyauctions.bwwsstaging.com/auctions/deta
 il/bw126896
SEQUENCE:1
END:VEVENT
END:VCALENDAR