BEGIN:VCALENDAR
VERSION:2.0
PRODID:-//ExpressionEngine Easy iCalendar plugin//NONSGML v2.0.1//EN
X-WR-TIMEZONE:America/New_York
X-WR-CALNAME:Upcoming Auctions
BEGIN:VEVENT
UID:127273
DTSTAMP:20241012T100000
DTSTART:20241012T100000
DTEND:20241012T110000
SUMMARY:Revercomb Farm Downsizing Equipment Auction
LOCATION:3157 Deerfield Valley Rd\, Deerfield\, VA 24432\, US
DESCRIPTION:Simulcast live in person and online auction for clean and we
 ll maintained farm equipment from the Revercomb Farm in Deer
 field VA. The Revercomb's have decided to downsize their ext
 ensive farming operation and have surplus machinery to sell
 . All items located at 3195 Deerfield Valley Rd\, Deerfield 
 VA 24432. This auction will be held at the farm beginning a
 t 10 AM on October 12\, 2024.
URL:https://mountainvalleyauctions.bwwsstaging.com/auctions/deta
 il/bw127273
SEQUENCE:1
END:VEVENT
END:VCALENDAR