BEGIN:VCALENDAR
VERSION:2.0
PRODID:-//ExpressionEngine Easy iCalendar plugin//NONSGML v2.0.1//EN
X-WR-TIMEZONE:America/New_York
X-WR-CALNAME:Upcoming Auctions
BEGIN:VEVENT
UID:127708
DTSTAMP:20240912T180000
DTSTART:20240912T180000
DTEND:20240925T200000
SUMMARY:September Firearms Auction
LOCATION:2177 Tinkling Spring Rd\, Stuarts Draft\, VA 24477\, US
DESCRIPTION:Rifles\, Shotguns\, Handguns\, Muzzleloaders\, And More. Over 22
 5 firearms for sale to the highest bidder! In this auction
  we have some very hard to find and collectible guns. Everyt
 hing from antique firearms and Winchester lever action rifl
 es to modern sporting rifles\, hunting rifles\, and handguns.
  This online only auction is being held in partnership with
  Enlisted Auctions and is hosted on their website. Preview a
 nd pickup will be at 2177 Tinkling Spring Rd\, Stuarts Draft
 \, VA\, 24477\,  Auction closes Wednesday September @ 8:00 PM
 .
URL:https://mountainvalleyauctions.bwwsstaging.com/auctions/deta
 il/bw127708
SEQUENCE:1
END:VEVENT
END:VCALENDAR