BEGIN:VCALENDAR
VERSION:2.0
PRODID:-//ExpressionEngine Easy iCalendar plugin//NONSGML v2.0.0//EN
X-WR-TIMEZONE:America/New_York
X-WR-CALNAME:Upcoming Auctions
BEGIN:VEVENT
UID:129401
DTSTAMP:20241104T190000
DTSTART:20241104T190000
DTEND:20241120T190000
SUMMARY:Porterfield Farms Estate Auction
LOCATION:0 Parkview Dr\, Crozet\, VA 22932\, US
DESCRIPTION:Online only auction for tractors\, trucks\, trailers\, hay and 
 grain equipment\, tools\, and parts from Porterfield Farms and
  the estate of Mike Herring. This auction closes Wednesday 
 November 20 beginning at 7 PM with pickup on November 21-2
 3. All items are located in Crozet VA.
URL:https://mountainvalleyauctions.bwwsstaging.com/auctions/deta
 il/bw129401
SEQUENCE:1
END:VEVENT
END:VCALENDAR