BEGIN:VCALENDAR
VERSION:2.0
PRODID:-//ExpressionEngine Easy iCalendar plugin//NONSGML v2.0.0//EN
X-WR-TIMEZONE:America/New_York
X-WR-CALNAME:Upcoming Auctions
BEGIN:VEVENT
UID:130103
DTSTAMP:20241024T130000
DTSTART:20241024T130000
DTEND:20241204T130000
SUMMARY:Three Tracts of Land - Halifax County VA
LOCATION:TN Snow Road\, Nathalie\, VA 24577\, US
DESCRIPTION:We are offering at online auction 89.62 +/- acres of land 
 on T N Snow Road in Halifax County VA. This property is zon
 ed agricultural and is being offered in three separate trac
 ts ranging in size from 22 acres to 44 acres. The property
  features approximately 25 acres of tillable farmland and 64
  acres of planted pines bordered by mature hardwoods. There 
 is a small stream bordering tract 1 and an off highway entra
 nce on each tract. There are opportunities for agriculture\,
  forestry\, hunting\, and potential home building sites. Near
 by towns are Nathalie\, Halifax\, and Clover VA.
URL:https://mountainvalleyauctions.bwwsstaging.com/auctions/deta
 il/bw130103
SEQUENCE:1
END:VEVENT
END:VCALENDAR