BEGIN:VCALENDAR
VERSION:2.0
PRODID:-//ExpressionEngine Easy iCalendar plugin//NONSGML v2.0.0//EN
X-WR-TIMEZONE:America/New_York
X-WR-CALNAME:Upcoming Auctions
BEGIN:VEVENT
UID:130124
DTSTAMP:20241102T190000
DTSTART:20241102T190000
DTEND:20241114T190000
SUMMARY:Staunton Estate Auction
LOCATION:310 Valley View Dr\, Staunton\, VA 24401\, US
DESCRIPTION:Online only auction for antiques\, furniture\, pottery\, collec
 tibles\, estate jewelry\, framed art from local artists\, old 
 books\, local historical items\, and other household items. 
 These items are from the Jim Borden estate and others. This
  auction closes Thursday November 14 with pickup on Friday 
 November 15 In Staunton VA. 
URL:https://mountainvalleyauctions.bwwsstaging.com/auctions/deta
 il/bw130124
SEQUENCE:1
END:VEVENT
END:VCALENDAR