BEGIN:VCALENDAR
VERSION:2.0
PRODID:-//ExpressionEngine Easy iCalendar plugin//NONSGML v2.0.0//EN
X-WR-TIMEZONE:America/New_York
X-WR-CALNAME:Upcoming Auctions
BEGIN:VEVENT
UID:132003
DTSTAMP:20250101T110000
DTSTART:20250101T110000
DTEND:20250101T120000
SUMMARY:Helmuth Builders New Year 2025 Shed Auction
LOCATION:4309 South Valley Pike\, Harrisonburg\, VA 22801\, US
DESCRIPTION:Welcome to the 6th Annual Helmuth Builders New Years Day She
 d Auction. Name your price on a Helmuth Builders shed\, lawn
  furniture\, and more! Plus give-aways and fun for the whole 
 family. We are giving away a 10x16x7 Windsor building and ot
 her great prizes. you must be present in person to win. This
  will be a live and online simulcast auction starting at 11:
 00 AM on January 1\, 2025.
URL:https://mountainvalleyauctions.bwwsstaging.com/auctions/deta
 il/bw132003
SEQUENCE:1
END:VEVENT
END:VCALENDAR