BEGIN:VCALENDAR
VERSION:2.0
PRODID:-//ExpressionEngine Easy iCalendar plugin//NONSGML v2.0.0//EN
X-WR-TIMEZONE:America/New_York
X-WR-CALNAME:Upcoming Auctions
BEGIN:VEVENT
UID:132374
DTSTAMP:20250104T190000
DTSTART:20250104T190000
DTEND:20250129T190000
SUMMARY:Model A Garage Auction
LOCATION:278 Wynngate Dr\, Luray\, VA 22835\, US
DESCRIPTION:Online only auction for project cars\, automotive repair and 
 refinishing equipment\, tools\, signs\, and parts inventory fr
 om the Model A Garage and the estate of John Phillips. This
  auction closes Wednesday January 29 beginning at 7 PM wit
 h pickup on January 30 through February 1. All items are loc
 ated in Luray VA.
URL:https://mountainvalleyauctions.bwwsstaging.com/auctions/deta
 il/bw132374
SEQUENCE:1
END:VEVENT
END:VCALENDAR