BEGIN:VCALENDAR
VERSION:2.0
PRODID:-//ExpressionEngine Easy iCalendar plugin//NONSGML v2.0.0//EN
X-WR-TIMEZONE:America/New_York
X-WR-CALNAME:Upcoming Auctions
BEGIN:VEVENT
UID:132933
DTSTAMP:20250127T190000
DTSTART:20250127T190000
DTEND:20250220T190000
SUMMARY:Haymarket VA Living Estate Auction
LOCATION:14540 Lightner Rd\, Haymarket \, VA 20169\, US
DESCRIPTION:Online only auction for Toyota pickup\, enclosed trailer\, ant
 iques\, furniture\, pocket watch collection\, tools\, lawn and g
 arden\, kitchenware's and other household items. This onlin
 e only auction closes Thursday February 20 with pickup on 
 Friday February 21 and Saturday February 22 In Haymarket VA
 . 
URL:https://mountainvalleyauctions.bwwsstaging.com/auctions/deta
 il/bw132933
SEQUENCE:1
END:VEVENT
END:VCALENDAR