BEGIN:VCALENDAR
VERSION:2.0
PRODID:-//ExpressionEngine Easy iCalendar plugin//NONSGML v2.0.0//EN
X-WR-TIMEZONE:America/New_York
X-WR-CALNAME:Upcoming Auctions
BEGIN:VEVENT
UID:133246
DTSTAMP:20250205T190000
DTSTART:20250205T190000
DTEND:20250313T190000
SUMMARY:Northern VA Spring Equipment Consignment Auction
LOCATION:3154 Gaskins Ln\, Catlett\, VA 20119\, US
DESCRIPTION:Consignment auction featuring agricultural\, heavy equipment\,
  construction equipment and tools\, vehicles\, trucks\, trailer
 s\, and powersports. This auction is being held at 3154 Gaski
 ns Ln\, Catlett VA 20119.
URL:https://mountainvalleyauctions.bwwsstaging.com/auctions/deta
 il/bw133246
SEQUENCE:1
END:VEVENT
END:VCALENDAR