BEGIN:VCALENDAR
VERSION:2.0
PRODID:-//ExpressionEngine Easy iCalendar plugin//NONSGML v2.0.0//EN
X-WR-TIMEZONE:America/New_York
X-WR-CALNAME:Upcoming Auctions
BEGIN:VEVENT
UID:133583
DTSTAMP:20250107T130000
DTSTART:20250107T130000
DTEND:20250213T130000
SUMMARY:54.35 +/- Acres Of Land Near Bealeton VA
LOCATION:5322 Bealeton Road\, Midland\, VA 22728\, US
DESCRIPTION:We are offering at online auction 54.35 +/- acres of land a
 long Bealeton and Rouges Road in Fauquier County VA. This p
 roperty is zoned agricultural with no conservation easements
  or other restrictions beyond the zoning and is in two tax 
 map parcels. The property features approximately 34 acres o
 f tillable farmland and 20 acres of woodland. Marsh Run is a
  small stream that borders the rear of the property. There a
 re opportunities for agriculture\, hunting\, and potential h
 ome building sites. Conveniently located 3 miles from Beale
 ton\, 12 miles from Warrenton\, and about 1 mile from the War
 renton-Fauquier Regional Airport. 
URL:https://mountainvalleyauctions.bwwsstaging.com/auctions/deta
 il/bw133583
SEQUENCE:1
END:VEVENT
END:VCALENDAR