BEGIN:VCALENDAR
VERSION:2.0
PRODID:-//ExpressionEngine Easy iCalendar plugin//NONSGML v2.0.0//EN
X-WR-TIMEZONE:America/New_York
X-WR-CALNAME:Upcoming Auctions
BEGIN:VEVENT
UID:135703
DTSTAMP:20250219T190000
DTSTART:20250219T190000
DTEND:20250305T190000
SUMMARY:March Gold\, Silver\, Coins and Tokens Auction
LOCATION:350 Bowman Road\, Dayton\, VA 22821\, US
DESCRIPTION:Online Only Auction Featuring Gold\, Silver\, Coins\, and Local
  Virginia Store Tokens. This auction includes a large collec
 tion of Morgan and Peace silver dollars\, graded gold coins\, 
 silver bullion\, silver coins\, and lots of local store toke
 ns. We will be adding additional lots over the next week so 
 keep checking back as the auction grows. Shipping Available.
  Auction Closes March 5 Beginning @ 7:00 PM.
URL:https://mountainvalleyauctions.bwwsstaging.com/auctions/deta
 il/bw135703
SEQUENCE:1
END:VEVENT
END:VCALENDAR