BEGIN:VCALENDAR
VERSION:2.0
PRODID:-//ExpressionEngine Easy iCalendar plugin//NONSGML v2.0.0//EN
X-WR-TIMEZONE:America/New_York
X-WR-CALNAME:Upcoming Auctions
BEGIN:VEVENT
UID:136679
DTSTAMP:20250309T130000
DTSTART:20250309T130000
DTEND:20250328T130000
SUMMARY:3 Bedroom Home On 1.6 +/- Acres In Haymarket VA
LOCATION:14540 Lightner Rd\, Haymarket \, VA 20169\, US
DESCRIPTION:We are offering at online auction the real estate and impro
 vements located at 14540 Lightner Rd\, Haymarket VA 20169. Th
 is 3 bedroom\, 1 1/2 bath brick ranch home sits on a 1.6 +/-
  acre lot near Haymarket VA. It offers a quiet country feel
  on a large mostly wooded lot with easy access to Rt 15 and 
 I-66. This house features 1\,232 sq ft of first floor livin
 g space plus a 572 Sq ft bonus room\, and a partially finishe
 d walkout basement\, paved driveway\, and two storage buildin
 gs. The online only auction will close April 10\, 2025 @ 1
 :00 PM.
URL:https://mountainvalleyauctions.bwwsstaging.com/auctions/deta
 il/bw136679
SEQUENCE:1
END:VEVENT
END:VCALENDAR