BEGIN:VCALENDAR
VERSION:2.0
PRODID:-//ExpressionEngine Easy iCalendar plugin//NONSGML v2.0.0//EN
X-WR-TIMEZONE:America/New_York
X-WR-CALNAME:Upcoming Auctions
BEGIN:VEVENT
UID:137534
DTSTAMP:20250426T100000
DTSTART:20250426T100000
DTEND:20250426T110000
SUMMARY:Riverside Stock Farms Retirement Auction
LOCATION:821 Hewitt Rd\, Swoope\, VA 24479\, US
DESCRIPTION:Simulcast live in person and online auction for clean and we
 ll maintained farm equipment from the Riverside Stock Farms 
 in Swoope VA.  After more than 100 years in business\, Rive
 rside Stock Farms is discontinuing operations.  We are sel
 ling the tractors\, trucks and trailers\, hay equipment\,  AT
 V's\, livestock equipment\, loaders\, and other farm equipment
  at public auction on April 26\, 2025 beginning at 10:00 AM.
  All items located at 821 Hewitt Rd\, Swoope VA 24479
URL:https://mountainvalleyauctions.bwwsstaging.com/auctions/deta
 il/bw137534
SEQUENCE:1
END:VEVENT
END:VCALENDAR