BEGIN:VCALENDAR
VERSION:2.0
PRODID:-//ExpressionEngine Easy iCalendar plugin//NONSGML v2.0.0//EN
X-WR-TIMEZONE:America/New_York
X-WR-CALNAME:Upcoming Auctions
BEGIN:VEVENT
UID:137620
DTSTAMP:20250324T190000
DTSTART:20250324T190000
DTEND:20250515T190000
SUMMARY:Shenandoah Valley Spring Consignment Auction
LOCATION:10298 McGaheysville Rd\, McGaheysville\, VA 22840\, US
DESCRIPTION:Spring Consignment Auction featuring agricultural\, heavy equ
 ipment\, construction equipment\, tools\, vehicles\, lawn and ga
 rden\, trucks\, trailers\, and powersports. This auction is bei
 ng held at 10298 McGaheysville Rd\, McGaheysville VA 22840. 
 Bidding closes May 15 beginning at 7 PM. Item pickup is May 
 16-17 from 9 AM to 6 PM.
URL:https://mountainvalleyauctions.bwwsstaging.com/auctions/deta
 il/bw137620
SEQUENCE:1
END:VEVENT
END:VCALENDAR