BEGIN:VCALENDAR
VERSION:2.0
PRODID:-//ExpressionEngine Easy iCalendar plugin//NONSGML v2.0.1//EN
X-WR-TIMEZONE:America/New_York
X-WR-CALNAME:Upcoming Auctions
BEGIN:VEVENT
UID:137969
DTSTAMP:20250407T130000
DTSTART:20250407T130000
DTEND:20250522T190000
SUMMARY:Amelia VA Farm Auction
LOCATION:16145 Royalton Rd\, Amelia\, VA 23002\, US
DESCRIPTION:Amelia VA Farm Auction featuring farm equipment and vehicle
 s. This online auction is being held at 16145 Royalton Rd\,
  Amelia VA 23002. We will be accepting select consignments f
 or this auction. Call or message us if you have vehicles\, eq
 uipment\, or farm machinery that you would like to sell. Bid
 ding closes May 22 beginning at 7 PM. Item pickup is Saturda
 y May 24 from 9 AM to 6 PM.
URL:https://mountainvalleyauctions.bwwsstaging.com/auctions/deta
 il/bw137969
SEQUENCE:1
END:VEVENT
END:VCALENDAR