BEGIN:VCALENDAR
VERSION:2.0
PRODID:-//ExpressionEngine Easy iCalendar plugin//NONSGML v2.0.1//EN
X-WR-TIMEZONE:America/New_York
X-WR-CALNAME:Upcoming Auctions
BEGIN:VEVENT
UID:138063
DTSTAMP:20250509T180000
DTSTART:20250509T180000
DTEND:20250509T190000
SUMMARY:Dayton Mennonite Church Life Center Fundraising Auction
LOCATION:4887 John Wayland Highway\, Dayton\, VA 22821\, US
DESCRIPTION:Mountain Valley Auction Group and Enlisted Auctions are hos
 ting a benefit auction for Dayton Mennonite Church's Life Ce
 nter Building fund on Friday evening May 9 beginning at 6 PM
 .  All proceeds go towards building a multi-purpose facilit
 y designed to serve the church and the Dayton community. T
 his project has a total budget of approximately 2 million do
 llars - half of which has already been raised by the church.
  Now is your opportunity to participate in a simulcast live 
 and online auction event to support this project.
URL:https://mountainvalleyauctions.bwwsstaging.com/auctions/deta
 il/bw138063
SEQUENCE:1
END:VEVENT
END:VCALENDAR