BEGIN:VCALENDAR
VERSION:2.0
PRODID:-//ExpressionEngine Easy iCalendar plugin//NONSGML v2.0.1//EN
X-WR-TIMEZONE:America/New_York
X-WR-CALNAME:Upcoming Auctions
BEGIN:VEVENT
UID:138198
DTSTAMP:20250401T130000
DTSTART:20250401T130000
DTEND:20250429T130000
SUMMARY:4 Bedroom Home in Warwick on the James - Newport News VA
LOCATION:109 Villa Rd\, Newport News \, VA 23601\, US
DESCRIPTION:In partnership with Walnut Hill Auctions we are offering at
  online auction the real estate and improvements located at
  109 Villa Rd\, Newport News VA 23601. This 4 bedroom\, 2 bath
  brick cape cod home sits on a 0.3 +/- acre lot in the Warw
 ick on the James neighborhood of Newport News. This propert
 y is conveniently located within walking distance of the Ja
 mes River and just a few blocks away from shopping and res
 taurants along Warwick Blvd (US Rt 60).  This house feat
 ures 1\,957 sq ft of living space with a small attached gar
 age. The online only auction for this property will close A
 pril 29\, 2025 @ 1:00 PM.
URL:https://mountainvalleyauctions.bwwsstaging.com/auctions/deta
 il/bw138198
SEQUENCE:1
END:VEVENT
END:VCALENDAR