BEGIN:VCALENDAR
VERSION:2.0
PRODID:-//ExpressionEngine Easy iCalendar plugin//NONSGML v2.0.1//EN
X-WR-TIMEZONE:America/New_York
X-WR-CALNAME:Upcoming Auctions
BEGIN:VEVENT
UID:138491
DTSTAMP:20250407T130000
DTSTART:20250407T130000
DTEND:20250508T130000
SUMMARY:3 Bedroom Home at Lake Monticello
LOCATION:118 Jefferson Dr\, Palmyra\, VA 22963\, US
DESCRIPTION:We are offering at online auction the real estate and impro
 vements located at 118 Jefferson Dr Palmyra VA 22963. This 3
  bedroom\, 2 bath home sits on a 0.44 +/- acre corner lot 
 at Lake Monticello. Lake Monticello is a gated country club
  lake and golf community that is regularly ranked as one of
  the top places to live in VA. This house features 1\,394 s
 q ft of single level living space with a two car attached g
 arage. The online only auction for this property will close
  May 8\, 2025 @ 1:00 PM.
URL:https://mountainvalleyauctions.bwwsstaging.com/auctions/deta
 il/bw138491
SEQUENCE:1
END:VEVENT
END:VCALENDAR