BEGIN:VCALENDAR
VERSION:2.0
PRODID:-//ExpressionEngine Easy iCalendar plugin//NONSGML v2.0.1//EN
X-WR-TIMEZONE:America/New_York
X-WR-CALNAME:Upcoming Auctions
BEGIN:VEVENT
UID:139439
DTSTAMP:20250512T190000
DTSTART:20250512T190000
DTEND:20250612T190000
SUMMARY:World Class Taxidermy Auction
LOCATION:2421 Stuarts Draft Highway\, Stuarts Draft \, VA 24477\, US
DESCRIPTION:Online only auction for a significant collection of taxiderm
 y and related items from a private collection. These museum
  quality mounts and replicas offer an incredible opportunity
  to buy unique and hard to find specimens never before avail
 able to the public. This auction closes Thursday\, June 12\, 
 with pickup on Friday\, June 13 in Stuarts Draft VA.
URL:https://mountainvalleyauctions.bwwsstaging.com/auctions/deta
 il/bw139439
SEQUENCE:1
END:VEVENT
END:VCALENDAR