BEGIN:VCALENDAR
VERSION:2.0
PRODID:-//ExpressionEngine Easy iCalendar plugin//NONSGML v2.0.0//EN
X-WR-TIMEZONE:America/New_York
X-WR-CALNAME:Upcoming Auctions
BEGIN:VEVENT
UID:141432
DTSTAMP:20250602T190000
DTSTART:20250602T190000
DTEND:20250625T190000
SUMMARY:June Gold\, Silver\, Coins and Tokens Auction
LOCATION:350 Bowman Road\, Dayton\, VA 22821\, US
DESCRIPTION:Online Only Auction Featuring Gold\, Silver\, Coins\, and Local
  Virginia Store Tokens. This auction includes key date and s
 emi-key date coins\, a large collection of Morgan silver dol
 lars\, Barber silver half dollars\, barber silver quarters\, g
 raded gold coins\, silver coins\, and lots of local store t
 okens. Shipping Available. Auction Closes June 25 Beginning
  @ 7:00 PM.
URL:https://mountainvalleyauctions.bwwsstaging.com/auctions/deta
 il/bw141432
SEQUENCE:1
END:VEVENT
END:VCALENDAR