BEGIN:VCALENDAR
VERSION:2.0
PRODID:-//ExpressionEngine Easy iCalendar plugin//NONSGML v2.0.1//EN
X-WR-TIMEZONE:America/New_York
X-WR-CALNAME:Upcoming Auctions
BEGIN:VEVENT
UID:142083
DTSTAMP:20250616T070000
DTSTART:20250616T070000
DTEND:20250627T190000
SUMMARY:Rockingham County Fair New Barn Fundraiser
LOCATION:4808 S Valley Pike\, Harrisonburg\, VA 22801\, US
DESCRIPTION:We are selling 20 campsites for livestock exhibitors at the 
 2025 Rockingham County Fair. Please do not bid if you are no
 t a fair livestock exhibitor! All the proceeds from this auc
 tion will go towards the building fund for the new barn. Thi
 s is your opportunity to secure a prime camping spot and sup
 port the building of a much needed new barn for livestock di
 splay.  This online only auction will close June 27 beginni
 ng at 7 PM.
URL:https://mountainvalleyauctions.bwwsstaging.com/auctions/deta
 il/bw142083
SEQUENCE:1
END:VEVENT
END:VCALENDAR