BEGIN:VCALENDAR
VERSION:2.0
PRODID:-//ExpressionEngine Easy iCalendar plugin//NONSGML v2.0.1//EN
X-WR-TIMEZONE:America/New_York
X-WR-CALNAME:Upcoming Auctions
BEGIN:VEVENT
UID:142272
DTSTAMP:20250613T130000
DTSTART:20250613T130000
DTEND:20250709T130000
SUMMARY:3 Bedroom Home in McGaheysville VA
LOCATION:457 McGahey Ln\, McGaheysville\, VA 22840\, US
DESCRIPTION:We are offering at online auction the real estate and impro
 vements located at 457 McGahey Ln\, McGaheysville VA 22840. T
 his 3 bedroom\, 2 bath home sits on a 0.78 +/- acre lot com
 posed to two tax map parcels. The house features 1\,883 sq
  ft of living space and is located in a quiet country settin
 g just minutes away from Harrisonburg\, Massanutten\, and Shen
 andoah National Park. The online only auction for this prop
 erty will close July 9\, 2025 @ 1:00 PM.
URL:https://mountainvalleyauctions.bwwsstaging.com/auctions/deta
 il/bw142272
SEQUENCE:1
END:VEVENT
END:VCALENDAR