BEGIN:VCALENDAR
VERSION:2.0
PRODID:-//ExpressionEngine Easy iCalendar plugin//NONSGML v2.0.0//EN
X-WR-TIMEZONE:America/New_York
X-WR-CALNAME:Upcoming Auctions
BEGIN:VEVENT
UID:142415
DTSTAMP:20250808T180000
DTSTART:20250808T180000
DTEND:20250808T190000
SUMMARY:Townsend Auction Barn Consignment Auction
LOCATION:10677 Mill Gap Rd\, Monterey\, VA 24465\, US
DESCRIPTION:Townsend Auction Barn Consignment Auction featuring vehicles
 \, machinery\, tools\, furniture\, antiques\, lawn and garden and
  more. This is a simulcast live and online auction being hel
 d at the old Townsend Auction Barn building in Mill Gap VA.
  Now accepting consignments! Simulcast Live In Person and On
 line Auction is August 8 beginning at 6 PM.
URL:https://mountainvalleyauctions.bwwsstaging.com/auctions/deta
 il/bw142415
SEQUENCE:1
END:VEVENT
END:VCALENDAR