BEGIN:VCALENDAR
VERSION:2.0
PRODID:-//ExpressionEngine Easy iCalendar plugin//NONSGML v2.0.0//EN
X-WR-TIMEZONE:America/New_York
X-WR-CALNAME:Upcoming Auctions
BEGIN:VEVENT
UID:142867
DTSTAMP:20250704T070000
DTSTART:20250704T070000
DTEND:20250724T190000
SUMMARY:Kenneth Good Estate Personal Property
LOCATION:2308 N Eastside Hwy\, Elkton\, VA 22827\, US
DESCRIPTION:Online only auction for woodworking equipment\, tools\, lawn a
 nd garden equipment\, gun safes\, coins\, and pool table. Coins
  start at lot 241. This online only auction closes Thursda
 y July 24 with pickup on Friday and Saturday July 25-26 in
  Elkton VA. 
URL:https://mountainvalleyauctions.bwwsstaging.com/auctions/deta
 il/bw142867
SEQUENCE:1
END:VEVENT
END:VCALENDAR