BEGIN:VCALENDAR
VERSION:2.0
PRODID:-//ExpressionEngine Easy iCalendar plugin//NONSGML v2.0.0//EN
X-WR-TIMEZONE:America/New_York
X-WR-CALNAME:Upcoming Auctions
BEGIN:VEVENT
UID:143460
DTSTAMP:20250704T010000
DTSTART:20250704T010000
DTEND:20250806T130000
SUMMARY:3 Bedroom 2 Bath Home Near Elkton VA
LOCATION:2308 N Eastside Hwy\, Elkton\, VA 22827\, US
DESCRIPTION:We are offering at online auction the real estate and impro
 vements located at 2308 N Eastside Hwy\, Elkton VA 22827. Thi
 s 3 bedroom\, 2 bath brick ranch home sits on a 0.69 +/- ac
 re lot just north of the town of Elkton with nearly 360 deg
 ree mountain views. The house features 1\,239 sq ft of l
 iving space with 3 bedrooms and 2 baths plus full basement\,
  large screened in porch\, and a carport. In the backyard yo
 u will find a very nice workshop and a storage building. Th
 e online only auction for this property will close August 6
 \, 2025 @ 1:00 PM.
URL:https://mountainvalleyauctions.bwwsstaging.com/auctions/deta
 il/bw143460
SEQUENCE:1
END:VEVENT
END:VCALENDAR