BEGIN:VCALENDAR
VERSION:2.0
PRODID:-//ExpressionEngine Easy iCalendar plugin//NONSGML v2.0.0//EN
X-WR-TIMEZONE:America/New_York
X-WR-CALNAME:Upcoming Auctions
BEGIN:VEVENT
UID:143506
DTSTAMP:20250711T190000
DTSTART:20250711T190000
DTEND:20250911T190000
SUMMARY:Northern VA Fall Equipment Consignment Auction
LOCATION:3154 Gaskins Ln\, Catlett\, VA 20119\, US
DESCRIPTION:Consignment auction featuring agricultural\, heavy equipment\,
  construction equipment and tools\, vehicles\, trucks\, trailer
 s\, and powersports. This online only auction is being held 
 at 3154 Gaskins Ln\, Catlett VA 20119 and will close Septembe
 r 11\, 2025.  Pickup is September 12-13.
URL:https://mountainvalleyauctions.bwwsstaging.com/auctions/deta
 il/bw143506
SEQUENCE:1
END:VEVENT
END:VCALENDAR