BEGIN:VCALENDAR
VERSION:2.0
PRODID:-//ExpressionEngine Easy iCalendar plugin//NONSGML v2.0.0//EN
X-WR-TIMEZONE:America/New_York
X-WR-CALNAME:Upcoming Auctions
BEGIN:VEVENT
UID:144364
DTSTAMP:20250711T190000
DTSTART:20250711T190000
DTEND:20250821T190000
SUMMARY:Halifax County VA Consignment Auction
LOCATION:1103 Philpott Rd\, South Boston\, VA 24592\, US
DESCRIPTION:Consignment auction featuring agricultural\, heavy equipment\,
  construction equipment and tools\, vehicles\, trucks\, trailer
 s\, and powersports. This online only auction is being held 
 at 1103 Philpott Rd\, South Boston VA 24592 and will close Au
 gust 21\, 2025.  Pickup is August 22-23.
URL:https://mountainvalleyauctions.bwwsstaging.com/auctions/deta
 il/bw144364
SEQUENCE:1
END:VEVENT
END:VCALENDAR