BEGIN:VCALENDAR
VERSION:2.0
PRODID:-//ExpressionEngine Easy iCalendar plugin//NONSGML v2.0.0//EN
X-WR-TIMEZONE:America/New_York
X-WR-CALNAME:Upcoming Auctions
BEGIN:VEVENT
UID:144685
DTSTAMP:20250717T130000
DTSTART:20250717T130000
DTEND:20250819T130000
SUMMARY:Two Building Lots At Massanutten
LOCATION:5137 Nicklaus Ln\, Massanutten\, VA 22840\, US
DESCRIPTION:We are offering at online auction two building lots located
  at 5137 and 5157 Nicklaus Ln Massanutten VA 22840. These lo
 ts in the Green View Hills Subdivision are 0.34 +/- acres e
 ach for a total of 0.68+/- acres and they are being sold tog
 ether. This property is located at the tee end of hole 4 at
  the Mountain Greens Golf Course and provides amazing fairw
 ay and ski slope views year round. This is one of the few r
 emaining undeveloped private properties adjacent to the golf
  course in the kettle area of Massanutten. Massanutten Resor
 t is a four season ski\, golf\, and family adventure resort in
  the Shenandoah Valley of VA. The online only auction for t
 his property will close August 19\, 2025 @ 1:00 PM.
URL:https://mountainvalleyauctions.bwwsstaging.com/auctions/deta
 il/bw144685
SEQUENCE:1
END:VEVENT
END:VCALENDAR