BEGIN:VCALENDAR
VERSION:2.0
PRODID:-//ExpressionEngine Easy iCalendar plugin//NONSGML v2.0.0//EN
X-WR-TIMEZONE:America/New_York
X-WR-CALNAME:Upcoming Auctions
BEGIN:VEVENT
UID:144866
DTSTAMP:20250721T130000
DTSTART:20250721T130000
DTEND:20250827T130000
SUMMARY:1 Bedroom Home In Harrisonburg VA
LOCATION:575 Hawkins St\, Harrisonburg \, VA 22801\, US
DESCRIPTION:We are offering at online auction the real estate and impro
 vements located at 575 Hawkins St\, Harrisonburg VA 22801. Th
 is 1 bedroom\, 1 bath home sits on a 0.21 +/- acre lot and
  features 948 sq ft of living space plus a full walkout base
 ment. It is located in the city of Harrisonburg on a quiet o
 ne way street within easy walking distance of shopping\, dini
 ng\, the Kiwanis Park\, and Spotswood Elementary School. The 
 online only auction for this property will close August 27\, 
 2025 @ 1:00 PM.
URL:https://mountainvalleyauctions.bwwsstaging.com/auctions/deta
 il/bw144866
SEQUENCE:1
END:VEVENT
END:VCALENDAR