BEGIN:VCALENDAR
VERSION:2.0
PRODID:-//ExpressionEngine Easy iCalendar plugin//NONSGML v2.0.0//EN
X-WR-TIMEZONE:America/New_York
X-WR-CALNAME:Upcoming Auctions
BEGIN:VEVENT
UID:145255
DTSTAMP:20250906T130000
DTSTART:20250906T130000
DTEND:20250906T140000
SUMMARY:VA Is For Boer Goat Lovers Sale
LOCATION:4808 S Valley Pike\, Harrisonburg\, VA 22801\, US
DESCRIPTION:Boer Goat Auction Featuring 90+ full blood and percentage Bo
 er Goats from some of the best breeders in the country. This
  is a simulcast auction with live and online bidding.  Sept
 ember 6\, 2025 @1 PM 4808 South Valley Pike\, Harrisonburg VA
  22801
URL:https://mountainvalleyauctions.bwwsstaging.com/auctions/deta
 il/bw145255
SEQUENCE:1
END:VEVENT
END:VCALENDAR