BEGIN:VCALENDAR
VERSION:2.0
PRODID:-//ExpressionEngine Easy iCalendar plugin//NONSGML v2.0.0//EN
X-WR-TIMEZONE:America/New_York
X-WR-CALNAME:Upcoming Auctions
BEGIN:VEVENT
UID:146681
DTSTAMP:20251002T190000
DTSTART:20251002T190000
DTEND:20251030T190000
SUMMARY:R.S Monger & Sons Inc Surplus Auction
LOCATION:265 Chesapeake Ave\, Harrisonburg \, VA 22801\, US
DESCRIPTION:Online only auction for surplus building materials and a 199
 5 International boom truck from R.S. Monger and Sons Inc. Th
 is auction includes a large selection of windows\, doors\, and
  cabinets. This online only auction closes Thursday Octobe
 r 30 with pickup on Friday October 31 and Saturday November
  1st.
URL:https://mountainvalleyauctions.bwwsstaging.com/auctions/deta
 il/bw146681
SEQUENCE:1
END:VEVENT
END:VCALENDAR