BEGIN:VCALENDAR
VERSION:2.0
PRODID:-//ExpressionEngine Easy iCalendar plugin//NONSGML v2.0.0//EN
X-WR-TIMEZONE:America/New_York
X-WR-CALNAME:Upcoming Auctions
BEGIN:VEVENT
UID:146988
DTSTAMP:20250901T000000
DTSTART:20250901T000000
DTEND:20251016T190000
SUMMARY:Shenandoah Valley Fall Consignment Auction
LOCATION:10298 McGaheysville Rd\, McGaheysville\, VA 22840\, US
DESCRIPTION:Fall Consignment Auction featuring agricultural\, heavy equip
 ment\, construction equipment\, tools\, vehicles\, lawn and gard
 en\, trucks\, trailers\, and powersports. This auction is being
  held at 10298 McGaheysville Rd\, McGaheysville VA 22840. Bi
 dding closes October 16 beginning at 7 PM. Item pickup is Oc
 tober 17-18 from 9 AM to 6 PM.
URL:https://mountainvalleyauctions.bwwsstaging.com/auctions/deta
 il/bw146988
SEQUENCE:1
END:VEVENT
END:VCALENDAR