BEGIN:VCALENDAR
VERSION:2.0
PRODID:-//ExpressionEngine Easy iCalendar plugin//NONSGML v2.0.0//EN
X-WR-TIMEZONE:America/New_York
X-WR-CALNAME:Upcoming Auctions
BEGIN:VEVENT
UID:147123
DTSTAMP:20250827T110000
DTSTART:20250827T110000
DTEND:20250925T130000
SUMMARY:Cabin On 60 Acres Near Criders VA
LOCATION:22737 Gobble Mountain Rd\, Criders\, VA 22820\, US
DESCRIPTION:We are offering at online auction the real estate and impro
 vements located at 22737 Gobble Mountain Rd\, Criders VA 2282
 0. This property is 60+/- acres bordering the George Washing
 ton National Forest with a stream\, spring fed pond\, and hiki
 ng trails. It is improved by a 2 bedroom\, 2 bath cabin fe
 aturing 1\,040 sq ft of living space plus a nice open porch.
  This secluded and quiet location offers many possibilities 
 for recreation\, year round or seasonal residence\, or continu
 e its use as an income producing vacation rental. The onli
 ne only auction for this property will close September 25\, 2
 025 @ 1:00 PM.
URL:https://mountainvalleyauctions.bwwsstaging.com/auctions/deta
 il/bw147123
SEQUENCE:1
END:VEVENT
END:VCALENDAR