BEGIN:VCALENDAR
VERSION:2.0
PRODID:-//ExpressionEngine Easy iCalendar plugin//NONSGML v2.0.0//EN
X-WR-TIMEZONE:America/New_York
X-WR-CALNAME:Upcoming Auctions
BEGIN:VEVENT
UID:147367
DTSTAMP:20250828T130000
DTSTART:20250828T130000
DTEND:20250930T130000
SUMMARY:End Unit Townhouse In Centreville VA
LOCATION:14012 Betsy Ross Ln\, Centreville\, VA 20121\, US
DESCRIPTION:We are offering at online auction the real estate and impro
 vements located at 14012 Betsy Ross Ln\, Centreville VA 20121
 . This property is a 2\,531 sq ft lot improved by a 3 -1/2 le
 vel end unit townhome with 2\,668 sq Ft of living space. Ther
 e are three bedrooms\, two full baths\, and two half baths. Th
 is home is in a prime location with easy access to major hig
 hways\, public transit\, shopping\, and dining opportunities. T
 he online only auction for this property will close Septemb
 er 30\, 2025 @ 1:00 PM.
URL:https://mountainvalleyauctions.bwwsstaging.com/auctions/deta
 il/bw147367
SEQUENCE:1
END:VEVENT
END:VCALENDAR