BEGIN:VCALENDAR
VERSION:2.0
PRODID:-//ExpressionEngine Easy iCalendar plugin//NONSGML v2.0.0//EN
X-WR-TIMEZONE:America/New_York
X-WR-CALNAME:Upcoming Auctions
BEGIN:VEVENT
UID:147653
DTSTAMP:20250904T130000
DTSTART:20250904T130000
DTEND:20251008T130000
SUMMARY:Four Tracts Of Land In Broadway VA
LOCATION:172 West Lee St\, Broadway\, VA 22815\, US
DESCRIPTION:We are offering at online auction a total of 22.095 +/- acr
 es in four tracts located in the town of Broadway VA. Two t
 racts are zoned B-1 commercial\, one tract is R-1 residential
 \, and one is C-1 conservation district. The B-1 tracts have 
 frontage on RT 259 (W Lee St) with an operating car wash on 
 one lot and a house on the other lot. The R-1 property has f
 rontage on Holly Hill St and the C-1 property has frontage o
 n Spar Mine Rd. There are many opportunities for developmen
 t\, redevelopment\, recreation\, and agricultural uses in the h
 eart of Broadway VA. This auction will close on October 8 a
 t 1:00 PM.
URL:https://mountainvalleyauctions.bwwsstaging.com/auctions/deta
 il/bw147653
SEQUENCE:1
END:VEVENT
END:VCALENDAR