BEGIN:VCALENDAR
VERSION:2.0
PRODID:-//ExpressionEngine Easy iCalendar plugin//NONSGML v2.0.0//EN
X-WR-TIMEZONE:America/New_York
X-WR-CALNAME:Upcoming Auctions
BEGIN:VEVENT
UID:148005
DTSTAMP:20250909T130000
DTSTART:20250909T130000
DTEND:20250929T190000
SUMMARY:Pendleton Senior and Family Services Fundraiser
LOCATION:365 Mill Road\, Franklin\, WV 26807\, US
DESCRIPTION:This is an online auction benefiting Pendleton Senior and Fa
 mily Services Inc in Franklin WV. Proceeds will go to direct
 ly support programs such as nutrition and medical transporta
 tion assistance for low income seniors citizens and disabled
  individuals in Pendleton County WV.  The items being sold 
 were created by local artists for an art contest and made 
 from wood pallets. Bidding will close at 7 PM September 29\,
  2024
URL:https://mountainvalleyauctions.bwwsstaging.com/auctions/deta
 il/bw148005
SEQUENCE:1
END:VEVENT
END:VCALENDAR