BEGIN:VCALENDAR
VERSION:2.0
PRODID:-//ExpressionEngine Easy iCalendar plugin//NONSGML v2.0.0//EN
X-WR-TIMEZONE:America/New_York
X-WR-CALNAME:Upcoming Auctions
BEGIN:VEVENT
UID:149533
DTSTAMP:20251002T130000
DTSTART:20251002T130000
DTEND:20251030T130000
SUMMARY:3 Bed\, 2 1/2 Bath Home In Bridgewater VA
LOCATION:103 Holly Hill Dr\, Bridgewater\, VA 22812\, US
DESCRIPTION:We are offering at online auction the real estate and impro
 vements located at 103 Holly Hill Dr. Bridgewater VA 22812. 
 This property is a 0.37 +/- acre lot improved by a Dutch C
 olonial Revival style house with approximately 2\,050 sq ft
  of living space. There are three bedrooms and two full bat
 hs\, one half bath\, and an attached garage. This property is
  situated in the very desirable Holly Hills neighborhood of 
 Bridgewater with easy access to parks\, dining\, shopping and 
 other amenities. The online only auction for this property
  will close October 30\, 2025 @ 1:00 PM.
URL:https://mountainvalleyauctions.bwwsstaging.com/auctions/deta
 il/bw149533
SEQUENCE:1
END:VEVENT
END:VCALENDAR