BEGIN:VCALENDAR
VERSION:2.0
PRODID:-//ExpressionEngine Easy iCalendar plugin//NONSGML v2.0.0//EN
X-WR-TIMEZONE:America/New_York
X-WR-CALNAME:Upcoming Auctions
BEGIN:VEVENT
UID:149620
DTSTAMP:20251107T170000
DTSTART:20251107T170000
DTEND:20251107T180000
SUMMARY:Blue Grass Ruritan Consignment Auction
LOCATION:2724 Blue Grass Valley Road\, Blue Grass\, VA 24413\, US
DESCRIPTION:Blue Grass Ruritan Consignment Auction featuring vehicles\, m
 achinery\, tools\, lawn and garden and more. This is a simulc
 ast live and online auction being held at the Blue Grass Rur
 itan building in Blue Grass VA. Now accepting consignments! 
 Simulcast Live In Person and Online Auction is November 7 
 beginning at 5 PM.
URL:https://mountainvalleyauctions.bwwsstaging.com/auctions/deta
 il/bw149620
SEQUENCE:1
END:VEVENT
END:VCALENDAR