BEGIN:VCALENDAR
VERSION:2.0
PRODID:-//ExpressionEngine Easy iCalendar plugin//NONSGML v2.0.0//EN
X-WR-TIMEZONE:America/New_York
X-WR-CALNAME:Upcoming Auctions
BEGIN:VEVENT
UID:150639
DTSTAMP:20251029T190000
DTSTART:20251029T190000
DTEND:20251120T190000
SUMMARY:Katzenberger Farm Estate Auction
LOCATION:12800 Brookfield Rd\, Nokesville\, VA 20181\, US
DESCRIPTION:Online only auction for trucks\,Â trailers\, tractors\, hay equ
 ipment and other farm machinery\,Â tools\, and more from a Nok
 esville VA farm.Â This auction closes ThursdayÂ November 20Â
  beginning at 7 PMÂ with pickup on November 21 and 22.Â Â Al
 l items are located in Prince William County VA.Â Exact addr
 ess will be published prior to preview.
URL:https://mountainvalleyauctions.bwwsstaging.com/auctions/deta
 il/bw150639
SEQUENCE:1
END:VEVENT
END:VCALENDAR