BEGIN:VCALENDAR
VERSION:2.0
PRODID:-//ExpressionEngine Easy iCalendar plugin//NONSGML v2.0.0//EN
X-WR-TIMEZONE:America/New_York
X-WR-CALNAME:Upcoming Auctions
BEGIN:VEVENT
UID:151289
DTSTAMP:20251102T130000
DTSTART:20251102T130000
DTEND:20251203T130000
SUMMARY:Cabin On 5 Acres Near Broadway VA
LOCATION:16811 Owls Nest Rd\, Broadway\, VA 22815\, US
DESCRIPTION:We are offering at onlineÂ auction the real estate and impro
 vements located at 16811 Owls Nest Rd\, Broadway VA 22815.Â Â
  This property is 5.02 +/- acresÂ in the Sundance Forest Sub
 division west of Broadway VA.Â It is improved by a 2Â bedroo
 m\, 2Â bathÂ cabin featuringÂ 1\,682Â sq ft of living space pl
 us a nice open porch. Also on the property is a 24x30Â ft ga
 rage with concrete floor\, lights\, and water.Â  This secluded
  and quiet location offers many possibilities for recreation
 \, year round or seasonal residence\, or use it as an income p
 roducing vacation rental.Â TheÂ online only auction for this
  property will close December 3\, 2025Â @ 1:00 PM.
URL:https://mountainvalleyauctions.bwwsstaging.com/auctions/deta
 il/bw151289
SEQUENCE:1
END:VEVENT
END:VCALENDAR