BEGIN:VCALENDAR
VERSION:2.0
PRODID:-//ExpressionEngine Easy iCalendar plugin//NONSGML v2.0.0//EN
X-WR-TIMEZONE:America/New_York
X-WR-CALNAME:Upcoming Auctions
BEGIN:VEVENT
UID:152093
DTSTAMP:20251120T000000
DTSTART:20251120T000000
DTEND:20251211T190000
SUMMARY:Construction Contractor Liquidation Auction
LOCATION:495 Willow Rose Dr\, McGaheysville VA\, VA 22840\, US
DESCRIPTION:Online only auction for construction equipment\, heavy equipm
 ent\, trucks\, trailers\, tools\, office buildings\, shop and off
 ice equipment. Having discontinued operations\, Lams Constru
 ction is selling remaining inventory of tools and equipment 
 to the highest bidder. This auction will close on December 1
 1 with pickup on December 12-13.
URL:https://mountainvalleyauctions.bwwsstaging.com/auctions/deta
 il/bw152093
SEQUENCE:1
END:VEVENT
END:VCALENDAR