BEGIN:VCALENDAR
VERSION:2.0
PRODID:-//ExpressionEngine Easy iCalendar plugin//NONSGML v2.0.0//EN
X-WR-TIMEZONE:America/New_York
X-WR-CALNAME:Upcoming Auctions
BEGIN:VEVENT
UID:152158
DTSTAMP:20260101T110000
DTSTART:20260101T110000
DTEND:20260101T120000
SUMMARY:Helmuth Builders New Year 2026 Shed Auction
LOCATION:4309 South Valley Pike\, Harrisonburg\, VA 22801\, US
DESCRIPTION:Welcome to the 7th Annual Helmuth Builders New Years Day She
 d Auction. Name your price on a Helmuth Builders shed\, lawn
  furniture\, and more! Plus give-aways and fun for the whole 
 family. We are giving away an 8x10x7 Windsor building and ot
 her great prizes. you must be present in person to win. This
  will be a live and online simulcast auction starting at 11:
 00 AM on January 1\, 2026.
URL:https://mountainvalleyauctions.bwwsstaging.com/auctions/deta
 il/bw152158
SEQUENCE:1
END:VEVENT
END:VCALENDAR