BEGIN:VCALENDAR
VERSION:2.0
PRODID:-//ExpressionEngine Easy iCalendar plugin//NONSGML v2.0.0//EN
X-WR-TIMEZONE:America/New_York
X-WR-CALNAME:Upcoming Auctions
BEGIN:VEVENT
UID:152233
DTSTAMP:20251117T000000
DTSTART:20251117T000000
DTEND:20251209T190000
SUMMARY:Rocktown Motors Going Out Of Business Auction
LOCATION:954 South High St\, Harrisonburg \, VA 22801\, US
DESCRIPTION:Online only auction for the remaining inventory at Rocktown 
 Motors in Harrisonburg VA.  Rocktown Motors is going out of
  business and selling all their remaining inventory to the h
 ighest bidder regardless of price. This online only auction
  closes December 9 with pickup on December 10.
URL:https://mountainvalleyauctions.bwwsstaging.com/auctions/deta
 il/bw152233
SEQUENCE:1
END:VEVENT
END:VCALENDAR