BEGIN:VCALENDAR
VERSION:2.0
PRODID:-//ExpressionEngine Easy iCalendar plugin//NONSGML v2.0.0//EN
X-WR-TIMEZONE:America/New_York
X-WR-CALNAME:Upcoming Auctions
BEGIN:VEVENT
UID:152321
DTSTAMP:20251123T000000
DTSTART:20251123T000000
DTEND:20251218T190000
SUMMARY:Maust Enterprises Downsizing Auction
LOCATION:140A Leray Circle\, Harrisonburg \, VA 22801\, US
DESCRIPTION:Online only auction for construction equipment\, heavy equipm
 ent\, trucks\, trailers\, and more. Maust Enterprises of Harri
 sonburg VA is downsizing their operation and preparing to mo
 ve to a different location. This auction is for the surplus 
 equipment inventory. More Items Will Be Added To The Catalo
 g Over The Next Two Weeks. This auction will close on Decemb
 er 18 with pickup on December 19-20.
URL:https://mountainvalleyauctions.bwwsstaging.com/auctions/deta
 il/bw152321
SEQUENCE:1
END:VEVENT
END:VCALENDAR