BEGIN:VCALENDAR
VERSION:2.0
PRODID:-//ExpressionEngine Easy iCalendar plugin//NONSGML v2.0.0//EN
X-WR-TIMEZONE:America/New_York
X-WR-CALNAME:Upcoming Auctions
BEGIN:VEVENT
UID:154227
DTSTAMP:20260110T190000
DTSTART:20260110T190000
DTEND:20260212T190000
SUMMARY:King George VA Estate Auction
LOCATION:16420 Forrest Rd\, King George\, VA 24485\, US
DESCRIPTION:Online only auction for fine furniture\, lawn and garden item
 s\, 34 ft sailboat\, rugs\, tools\, and household items from a 
 King George VA estate. This auction closes Thursday Februa
 ry 12 beginning at 7 PM with pickup on February 13 and 14.
  All items are located in King George County VA in the tow
 n of Dahlgren. 
URL:https://mountainvalleyauctions.bwwsstaging.com/auctions/deta
 il/bw154227
SEQUENCE:1
END:VEVENT
END:VCALENDAR