BEGIN:VCALENDAR
VERSION:2.0
PRODID:-//ExpressionEngine Easy iCalendar plugin//NONSGML v2.0.0//EN
X-WR-TIMEZONE:America/New_York
X-WR-CALNAME:Upcoming Auctions
BEGIN:VEVENT
UID:154854
DTSTAMP:20260110T130000
DTSTART:20260110T130000
DTEND:20260211T130000
SUMMARY:4 Bedroom 3 1/2 Bath Home In Dahlgren VA
LOCATION:16420 Forrest Rd\, King George\, VA 22485\, US
DESCRIPTION:We are offering at online auction the real estate and impro
 vements located at 16420 Forrest Rd\, King George VA 22485. T
 his custom one owner house sits on a spacious 0.68 +/- acre
  double lot in the unincorporated village of Dahlgren VA. It
  features over 2\,700 sq ft of above ground living space and
  a full finished basement with an additional 1\,200 square ft
 . With 4 bedrooms\, 3 1/2 baths\, rear patio\, backyard shed
 \, and gazebo\, this property has lots to offer. It is locate
 d in a desirable neighborhood next to Potomac Elementary Sch
 ool and within walking distance of the US Navy's base at NS
 F Dahlgren. This online only auction will close February 11
 \, 2026 @ 1:00 PM.
URL:https://mountainvalleyauctions.bwwsstaging.com/auctions/deta
 il/bw154854
SEQUENCE:1
END:VEVENT
END:VCALENDAR