BEGIN:VCALENDAR
VERSION:2.0
PRODID:-//ExpressionEngine Easy iCalendar plugin//NONSGML v2.0.0//EN
X-WR-TIMEZONE:America/New_York
X-WR-CALNAME:Upcoming Auctions
BEGIN:VEVENT
UID:157669
DTSTAMP:20260315T190000
DTSTART:20260315T190000
DTEND:20260514T190000
SUMMARY:Shenandoah Valley Spring Consignment Auction
LOCATION:10298 McGaheysville Rd\, McGaheysville\, VA 22840\, US
DESCRIPTION:Spring Consignment Auction featuring agricultural\, heavy equ
 ipment\, construction equipment\, tools\, vehicles\, lawn and ga
 rden\, trucks\, trailers\, and powersports. This auction is bei
 ng held at 10298 McGaheysville Rd\, McGaheysville VA 22840. 
 Bidding closes May 14 beginning at 7 PM. Item pickup is May
  15-16 from 9 AM to 6 PM.
URL:https://mountainvalleyauctions.bwwsstaging.com/auctions/deta
 il/bw157669
SEQUENCE:1
END:VEVENT
END:VCALENDAR