BEGIN:VCALENDAR
VERSION:2.0
PRODID:-//ExpressionEngine Easy iCalendar plugin//NONSGML v2.0.0//EN
X-WR-TIMEZONE:America/New_York
X-WR-CALNAME:Upcoming Auctions
BEGIN:VEVENT
UID:158713
DTSTAMP:20260316T190000
DTSTART:20260316T190000
DTEND:20260416T190000
SUMMARY:Augusta County Spring Consignment Auction
LOCATION:1789 Laurel Hill Rd\, Verona\, VA 24482\, US
DESCRIPTION:Augusta County VA Spring Consignment Auction featuring agric
 ultural\, heavy equipment\, construction equipment\, tools\, veh
 icles\, lawn and garden\, trucks\, trailers\, and powersports. T
 his auction is being held in partnership with Tilt Hammer Au
 ctions at 1789 Laurel Hill Rd\, Verona VA 24482. Bidding cl
 oses April 16 beginning at 7 PM. Item pickup is April 17 fro
 m 9 AM to 6 PM and April 18 from 9 AM to 1 PM.
URL:https://mountainvalleyauctions.bwwsstaging.com/auctions/deta
 il/bw158713
SEQUENCE:1
END:VEVENT
END:VCALENDAR