BEGIN:VCALENDAR
VERSION:2.0
PRODID:-//ExpressionEngine Easy iCalendar plugin//NONSGML v2.0.1//EN
X-WR-TIMEZONE:America/New_York
X-WR-CALNAME:Upcoming Auctions
BEGIN:VEVENT
UID:30814
DTSTAMP:20181021T161800
DTSTART:20181021T161800
DTEND:20181021T171800
SUMMARY:Huge Model Railroad Auction - Live and Online
LOCATION:682 Weyers Cave Rd\, Weyers Cave\, VA 24486\, US
DESCRIPTION:This is an auction for multiple large collections of mostly
  O Gauge with a few Standard and G Gauge model railroad it
 ems from manufacturers like Lionel\, MTH\, Williams\, Weaver\,
  K-Line\, and many more. This auction will feature approxim
 ately 600 lots of Postwar and Modern era trains\, buildings\,
  and layout accessories many of which are new or like new an
 d in their original boxes. This is a live auction with simul
 cast online bidding and shipping available for online bidder
 s.
URL:https://mountainvalleyauctions.bwwsstaging.com/auctions/deta
 il/bw30814
SEQUENCE:1
END:VEVENT
END:VCALENDAR